BEGIN:VCALENDAR
VERSION:2.0
PRODID:-//Real Time Medical Systems - ECPv6.15.20//NONSGML v1.0//EN
CALSCALE:GREGORIAN
METHOD:PUBLISH
X-WR-CALNAME:Real Time Medical Systems
X-ORIGINAL-URL:https://realtimemed.com
X-WR-CALDESC:Events for Real Time Medical Systems
REFRESH-INTERVAL;VALUE=DURATION:PT1H
X-Robots-Tag:noindex
X-PUBLISHED-TTL:PT1H
BEGIN:VTIMEZONE
TZID:America/New_York
BEGIN:DAYLIGHT
TZOFFSETFROM:-0500
TZOFFSETTO:-0400
TZNAME:EDT
DTSTART:20250309T070000
END:DAYLIGHT
BEGIN:STANDARD
TZOFFSETFROM:-0400
TZOFFSETTO:-0500
TZNAME:EST
DTSTART:20251102T060000
END:STANDARD
BEGIN:DAYLIGHT
TZOFFSETFROM:-0500
TZOFFSETTO:-0400
TZNAME:EDT
DTSTART:20260308T070000
END:DAYLIGHT
BEGIN:STANDARD
TZOFFSETFROM:-0400
TZOFFSETTO:-0500
TZNAME:EST
DTSTART:20261101T060000
END:STANDARD
BEGIN:DAYLIGHT
TZOFFSETFROM:-0500
TZOFFSETTO:-0400
TZNAME:EDT
DTSTART:20270314T070000
END:DAYLIGHT
BEGIN:STANDARD
TZOFFSETFROM:-0400
TZOFFSETTO:-0500
TZNAME:EST
DTSTART:20271107T060000
END:STANDARD
END:VTIMEZONE
BEGIN:VEVENT
DTSTART;VALUE=DATE:20260422
DTEND;VALUE=DATE:20260425
DTSTAMP:20260424T122253
CREATED:20260304T170030Z
LAST-MODIFIED:20260304T170030Z
UID:10000891-1776816000-1777075199@realtimemed.com
SUMMARY:NAACOS Spring 2026 Conference
DESCRIPTION:We look forward to seeing everyone at the NAACOS Spring 2026 Conference! Phyllis Wojtusik\, RN\, and Tony Reed will be at the Real Time table\, ready to share how our KLAS Rated\, HITRUST-Certified Interventional Analytics solution is improving patient care through live post-acute data transparency – enabling ACOs and Payers to reduce hospital readmissions\, minimize length of stay\, and improve care coordination with their post-acute network. \n  \n 
URL:https://realtimemed.com/event/naacos-spring-2026-conference/
LOCATION:Baltimore\, MD
CATEGORIES:Conference
ATTACH;FMTTYPE=image/png:https://realtimemed.com/wp-content/uploads/2026/03/2026-NAACOS-Spring-Conference-web-art.png
END:VEVENT
END:VCALENDAR