BEGIN:VCALENDAR
VERSION:2.0
PRODID:-//Real Time Medical Systems - ECPv6.15.20//NONSGML v1.0//EN
CALSCALE:GREGORIAN
METHOD:PUBLISH
X-WR-CALNAME:Real Time Medical Systems
X-ORIGINAL-URL:https://realtimemed.com
X-WR-CALDESC:Events for Real Time Medical Systems
REFRESH-INTERVAL;VALUE=DURATION:PT1H
X-Robots-Tag:noindex
X-PUBLISHED-TTL:PT1H
BEGIN:VTIMEZONE
TZID:America/New_York
BEGIN:DAYLIGHT
TZOFFSETFROM:-0500
TZOFFSETTO:-0400
TZNAME:EDT
DTSTART:20210314T070000
END:DAYLIGHT
BEGIN:STANDARD
TZOFFSETFROM:-0400
TZOFFSETTO:-0500
TZNAME:EST
DTSTART:20211107T060000
END:STANDARD
BEGIN:DAYLIGHT
TZOFFSETFROM:-0500
TZOFFSETTO:-0400
TZNAME:EDT
DTSTART:20220313T070000
END:DAYLIGHT
BEGIN:STANDARD
TZOFFSETFROM:-0400
TZOFFSETTO:-0500
TZNAME:EST
DTSTART:20221106T060000
END:STANDARD
BEGIN:DAYLIGHT
TZOFFSETFROM:-0500
TZOFFSETTO:-0400
TZNAME:EDT
DTSTART:20230312T070000
END:DAYLIGHT
BEGIN:STANDARD
TZOFFSETFROM:-0400
TZOFFSETTO:-0500
TZNAME:EST
DTSTART:20231105T060000
END:STANDARD
END:VTIMEZONE
BEGIN:VEVENT
DTSTART;VALUE=DATE:20220922
DTEND;VALUE=DATE:20220924
DTSTAMP:20260423T072556
CREATED:20220803T194611Z
LAST-MODIFIED:20220803T195131Z
UID:4466-1663804800-1663977599@realtimemed.com
SUMMARY:WI Association of Health Plans 2022 Annual Meeting
DESCRIPTION:Real Time is excited to participate in the Wisconsin Association of Health Plans 2022 Annual Meeting. We look forward to being part of the conversation as health care professionals gather to learn how health plans in Wisconsin are dealing with changes\, and planning for the future.
URL:https://realtimemed.com/event/wi-association-of-health-plans-2022-annual-meeting/
LOCATION:Green Lake\, WI
CATEGORIES:Conference
ATTACH;FMTTYPE=image/jpeg:https://realtimemed.com/wp-content/uploads/2022/07/iStock-1180547354-1-1.jpg
END:VEVENT
END:VCALENDAR