BEGIN:VCALENDAR
VERSION:2.0
PRODID:-//Real Time Medical Systems - ECPv6.15.20//NONSGML v1.0//EN
CALSCALE:GREGORIAN
METHOD:PUBLISH
X-WR-CALNAME:Real Time Medical Systems
X-ORIGINAL-URL:https://realtimemed.com
X-WR-CALDESC:Events for Real Time Medical Systems
REFRESH-INTERVAL;VALUE=DURATION:PT1H
X-Robots-Tag:noindex
X-PUBLISHED-TTL:PT1H
BEGIN:VTIMEZONE
TZID:America/New_York
BEGIN:DAYLIGHT
TZOFFSETFROM:-0500
TZOFFSETTO:-0400
TZNAME:EDT
DTSTART:20250309T070000
END:DAYLIGHT
BEGIN:STANDARD
TZOFFSETFROM:-0400
TZOFFSETTO:-0500
TZNAME:EST
DTSTART:20251102T060000
END:STANDARD
BEGIN:DAYLIGHT
TZOFFSETFROM:-0500
TZOFFSETTO:-0400
TZNAME:EDT
DTSTART:20260308T070000
END:DAYLIGHT
BEGIN:STANDARD
TZOFFSETFROM:-0400
TZOFFSETTO:-0500
TZNAME:EST
DTSTART:20261101T060000
END:STANDARD
BEGIN:DAYLIGHT
TZOFFSETFROM:-0500
TZOFFSETTO:-0400
TZNAME:EDT
DTSTART:20270314T070000
END:DAYLIGHT
BEGIN:STANDARD
TZOFFSETFROM:-0400
TZOFFSETTO:-0500
TZNAME:EST
DTSTART:20271107T060000
END:STANDARD
END:VTIMEZONE
BEGIN:VEVENT
DTSTART;TZID=America/New_York:20260428T100000
DTEND;TZID=America/New_York:20260428T140000
DTSTAMP:20260421T193403
CREATED:20260416T153555Z
LAST-MODIFIED:20260416T153555Z
UID:7009-1777370400-1777384800@realtimemed.com
SUMMARY:National MLTSS Health Plan Association Spring Networking Lunch
DESCRIPTION:We look forward to joining health plan leaders for focused dialog on evolving priorities shaping MLTSS at the MLTSS Association Spring Workshop & Networking Luncheon. Real Time’s EVP of Value Based Care\, Phyllis Wojtusik\, will participate in the Value of MLTSS in Complex Populations workshop\, bringing her expertise in managing complexity in post-acute care and sharing how live data analytics supports high quality LTSS and reduces avoidable hospital utilization.
URL:https://realtimemed.com/event/national-mltss-health-plan-association-spring-networking-lunch/
LOCATION:Washington\, DC
CATEGORIES:Conference
ATTACH;FMTTYPE=image/jpeg:https://realtimemed.com/wp-content/uploads/2026/04/2026-MLTSS-web-art-Spring-Lunch.jpg
END:VEVENT
END:VCALENDAR