BEGIN:VCALENDAR
VERSION:2.0
PRODID:-//Real Time Medical Systems - ECPv6.15.20//NONSGML v1.0//EN
CALSCALE:GREGORIAN
METHOD:PUBLISH
X-WR-CALNAME:Real Time Medical Systems
X-ORIGINAL-URL:https://realtimemed.com
X-WR-CALDESC:Events for Real Time Medical Systems
REFRESH-INTERVAL;VALUE=DURATION:PT1H
X-Robots-Tag:noindex
X-PUBLISHED-TTL:PT1H
BEGIN:VTIMEZONE
TZID:America/New_York
BEGIN:DAYLIGHT
TZOFFSETFROM:-0500
TZOFFSETTO:-0400
TZNAME:EDT
DTSTART:20200308T070000
END:DAYLIGHT
BEGIN:STANDARD
TZOFFSETFROM:-0400
TZOFFSETTO:-0500
TZNAME:EST
DTSTART:20201101T060000
END:STANDARD
BEGIN:DAYLIGHT
TZOFFSETFROM:-0500
TZOFFSETTO:-0400
TZNAME:EDT
DTSTART:20210314T070000
END:DAYLIGHT
BEGIN:STANDARD
TZOFFSETFROM:-0400
TZOFFSETTO:-0500
TZNAME:EST
DTSTART:20211107T060000
END:STANDARD
BEGIN:DAYLIGHT
TZOFFSETFROM:-0500
TZOFFSETTO:-0400
TZNAME:EDT
DTSTART:20220313T070000
END:DAYLIGHT
BEGIN:STANDARD
TZOFFSETFROM:-0400
TZOFFSETTO:-0500
TZNAME:EST
DTSTART:20221106T060000
END:STANDARD
END:VTIMEZONE
BEGIN:VEVENT
DTSTART;TZID=America/New_York:20211111T140000
DTEND;TZID=America/New_York:20211111T150000
DTSTAMP:20260421T020028
CREATED:20211105T221753Z
LAST-MODIFIED:20211105T221753Z
UID:3598-1636639200-1636642800@realtimemed.com
SUMMARY:NAACOS Webinar: Managing to the New Medicare Patient: Driving New Care Delivery Models with Post-Acute Data Transparency
DESCRIPTION:The baby boomer generation has already begun to age into Medicare and the number of beneficiaries is projected to increase to over 80 million – meaning more people than ever before will rely on the healthcare system. In turn\, this new Medicare population will drastically shift the current care delivery models and drive higher demand for long-term care services. So\, how can ACOs and DCEs prepare for this new Medicare patient? Leading the consumerization of healthcare\, this generations knowledge of and preferences about real-time access to healthcare data\, aging\, and quality of life are much different than their parents. During this presentation\, we will discuss the importance in establishing new care delivery models and standardizing care within your post-acute network. Insights will also be provided into how post-acute data transparency will play an integral role in delivering the care and transparency that this new Medicare patient will require. \nSpeakers:\n\nGina Markwell\, LNHA\, Director\, Post-Acute and Transitional Care\, Triad HealthCare Network\nPhyllis Wojtusik\, RN\, EVP\, Health System Solutions\, Real Time Medical Systems
URL:https://realtimemed.com/event/naacos-webinar-managing-to-the-new-medicare-patient-driving-new-care-delivery-models-with-post-acute-data-transparency/
CATEGORIES:Educational Session
END:VEVENT
END:VCALENDAR