BEGIN:VCALENDAR
VERSION:2.0
PRODID:-//Real Time Medical Systems - ECPv6.15.20//NONSGML v1.0//EN
CALSCALE:GREGORIAN
METHOD:PUBLISH
X-WR-CALNAME:Real Time Medical Systems
X-ORIGINAL-URL:https://realtimemed.com
X-WR-CALDESC:Events for Real Time Medical Systems
REFRESH-INTERVAL;VALUE=DURATION:PT1H
X-Robots-Tag:noindex
X-PUBLISHED-TTL:PT1H
BEGIN:VTIMEZONE
TZID:America/New_York
BEGIN:DAYLIGHT
TZOFFSETFROM:-0500
TZOFFSETTO:-0400
TZNAME:EDT
DTSTART:20250309T070000
END:DAYLIGHT
BEGIN:STANDARD
TZOFFSETFROM:-0400
TZOFFSETTO:-0500
TZNAME:EST
DTSTART:20251102T060000
END:STANDARD
BEGIN:DAYLIGHT
TZOFFSETFROM:-0500
TZOFFSETTO:-0400
TZNAME:EDT
DTSTART:20260308T070000
END:DAYLIGHT
BEGIN:STANDARD
TZOFFSETFROM:-0400
TZOFFSETTO:-0500
TZNAME:EST
DTSTART:20261101T060000
END:STANDARD
BEGIN:DAYLIGHT
TZOFFSETFROM:-0500
TZOFFSETTO:-0400
TZNAME:EDT
DTSTART:20270314T070000
END:DAYLIGHT
BEGIN:STANDARD
TZOFFSETFROM:-0400
TZOFFSETTO:-0500
TZNAME:EST
DTSTART:20271107T060000
END:STANDARD
END:VTIMEZONE
BEGIN:VEVENT
DTSTART;TZID=America/New_York:20260126T164500
DTEND;TZID=America/New_York:20260126T173000
DTSTAMP:20260423T051738
CREATED:20260119T214919Z
LAST-MODIFIED:20260119T214919Z
UID:6838-1769445900-1769448600@realtimemed.com
SUMMARY:Managing Population Health Amid Financial Pressures
DESCRIPTION:Healthcare leaders share practical strategies for maintaining quality amid shrinking Medicaid reimbursements\, rising benchmarks\, and resource constraints. The discussion will cover approaches to optimizing contracts\, prioritizing investments\, delivering strong population health outcomes despite financial headwinds\, and preparing for upcoming CMS models. \nSpeakers:\n\nEmily Brower\, CEO\, National Association of Accountable Care Organizations (NAACOS)\nNate Aumock\, Chief Population Health Officer\, Curana Health\nAmy Russell\, MD\, Chief Medical and Population Health Officer\, Impact Primary Care Network\nPhyllis Wojtusik\, RN\, Executive Vice President Value-Based Care\, Real Time Medical Systems\n\nModerator:\n\nBrian Silverstein\, MD\, Chief Population Health Officer and Chief Medical Officer\, Innovaccer\n\nThis session will be presented live at Xccelerate 2026.
URL:https://realtimemed.com/event/managing-population-health-amid-financial-pressures/
LOCATION:San Francisco\, CA
CATEGORIES:Educational Session
ATTACH;FMTTYPE=image/png:https://realtimemed.com/wp-content/uploads/2026/01/01.26.2026-Xccelerate-Live-session-promo.png
END:VEVENT
END:VCALENDAR